BEGIN:VCALENDAR
VERSION:2.0
PRODID:-//River North Wellness Center, LLC - ECPv4.9.3.1//NONSGML v1.0//EN
CALSCALE:GREGORIAN
METHOD:PUBLISH
X-WR-CALNAME:River North Wellness Center, LLC
X-ORIGINAL-URL:https://stephenvilleweightloss.com
X-WR-CALDESC:Events for River North Wellness Center, LLC
BEGIN:VEVENT
DTSTART;TZID=UTC+0:20180712T174500
DTEND;TZID=UTC+0:20180712T184500
DTSTAMP:20260421T114315
CREATED:20180629T171054Z
LAST-MODIFIED:20180629T171054Z
UID:5292-1531417500-1531421100@stephenvilleweightloss.com
SUMMARY:2nd Thursdays Educational Seminar
DESCRIPTION:Are you ready to change your lifestyle for the better? This is a FREE  NO obligation information session to see why Ideal Protein truly is a lifestyle changing platform. Visit with Dr. Smith and the IP coaches and get all your questions answered. \n
URL:https://stephenvilleweightloss.com/event/2nd-thursdays-educational-seminar/
LOCATION:SMCE Women’s Health Center\, 160 River North Blvd\, Stephenville\, TX\, 76401\, United States
GEO:32.2295152;-98.2326764
X-APPLE-STRUCTURED-LOCATION;VALUE=URI;X-ADDRESS=SMCE Women’s Health Center 160 River North Blvd Stephenville TX 76401 United States;X-APPLE-RADIUS=500;X-TITLE=160 River North Blvd:geo:-98.2326764,32.2295152
ORGANIZER;CN="Dr.%20James%20Smith":MAILTO:totalhealthstephenville.com
END:VEVENT
END:VCALENDAR